BEGIN:VCALENDAR
VERSION:2.0
PRODID:-//Allied Training - ECPv4.3.2//NONSGML v1.0//EN
CALSCALE:GREGORIAN
METHOD:PUBLISH
X-WR-CALNAME:Allied Training
X-ORIGINAL-URL:http://www.alliedtraining.ie
X-WR-CALDESC:Events for Allied Training
BEGIN:VEVENT
DTSTART;TZID=UTC+0:20171023T093000
DTEND;TZID=UTC+0:20171023T123000
DTSTAMP:20171108T080740
CREATED:20171018T143755Z
LAST-MODIFIED:20171018T143755Z
UID:16481-1508751000-1508761800@www.alliedtraining.ie
SUMMARY:Manual Handling
DESCRIPTION:Half day course.\n\nCertified for 3 years
URL:http://www.alliedtraining.ie/event/manual-handling-4/
LOCATION:Whitemill Industrial Estaste\, Wexford\, Ireland
END:VEVENT
END:VCALENDAR