BEGIN:VCALENDAR
VERSION:2.0
PRODID:-//Allied Training - ECPv4.3.2//NONSGML v1.0//EN
CALSCALE:GREGORIAN
METHOD:PUBLISH
X-WR-CALNAME:Allied Training
X-ORIGINAL-URL:http://www.alliedtraining.ie
X-WR-CALDESC:Events for Allied Training
BEGIN:VEVENT
DTSTART;TZID=UTC+0:20171014T093000
DTEND;TZID=UTC+0:20171014T163000
DTSTAMP:20171108T080730
CREATED:20171004T153517Z
LAST-MODIFIED:20171004T153703Z
UID:16465-1507973400-1507998600@www.alliedtraining.ie
SUMMARY:Occupational First Aid
DESCRIPTION:QQI Level 5 Certified\n\n3 day course.  Sat 14th.Sat 21st & Sat 28th October 2017\n\nCert valid for 2 years
URL:http://www.alliedtraining.ie/event/occupational-first-aid-7/
LOCATION:Whitemill Industrial Estate\, Wexford\, Ireland
END:VEVENT
END:VCALENDAR