BEGIN:VCALENDAR
VERSION:2.0
PRODID:-//Allied Training - ECPv4.3.2//NONSGML v1.0//EN
CALSCALE:GREGORIAN
METHOD:PUBLISH
X-WR-CALNAME:Allied Training
X-ORIGINAL-URL:http://www.alliedtraining.ie
X-WR-CALDESC:Events for Allied Training
BEGIN:VEVENT
DTSTART;TZID=UTC+0:20171011T093000
DTEND;TZID=UTC+0:20171013T163000
DTSTAMP:20171108T080703
CREATED:20171004T151222Z
LAST-MODIFIED:20171004T151222Z
UID:16459-1507714200-1507912200@www.alliedtraining.ie
SUMMARY:Forklift (Novice)
DESCRIPTION:RTITB Accredited.\n\nCertificate valid for 3 years.\n\n 
URL:http://www.alliedtraining.ie/event/forklift-novice-3/
LOCATION:Whitemill Industrial Estate\, Wexford\, Ireland
END:VEVENT
END:VCALENDAR