BEGIN:VCALENDAR
VERSION:2.0
PRODID:-//Allied Training - ECPv4.3.2//NONSGML v1.0//EN
CALSCALE:GREGORIAN
METHOD:PUBLISH
X-WR-CALNAME:Allied Training
X-ORIGINAL-URL:http://www.alliedtraining.ie
X-WR-CALDESC:Events for Allied Training
BEGIN:VEVENT
DTSTART;TZID=UTC+0:20171003T093000
DTEND;TZID=UTC+0:20171003T163000
DTSTAMP:20171108T080606
CREATED:20170825T094100Z
LAST-MODIFIED:20170825T094100Z
UID:16353-1507023000-1507048200@www.alliedtraining.ie
SUMMARY:MEWP  (Scissors & Boom)
DESCRIPTION:1 day Course.\n\nCertificate valid for 3 years.
URL:http://www.alliedtraining.ie/event/mewp-scissors-boom/
LOCATION:Old Dublin Rd\, Blackstoops\,\, Enniscorthy\, Co.Wexford\, Ireland
END:VEVENT
BEGIN:VEVENT
DTSTART;TZID=UTC+0:20171003T093000
DTEND;TZID=UTC+0:20171003T123000
DTSTAMP:20171108T080606
CREATED:20170922T094740Z
LAST-MODIFIED:20170922T094740Z
UID:16448-1507023000-1507033800@www.alliedtraining.ie
SUMMARY:Manual Handling (Public Course)
DESCRIPTION:Half day course.\n\nCertified for 3 years.
URL:http://www.alliedtraining.ie/event/manual-handling-public-course/
LOCATION:Kerlogue\, Wexford\, Co.Wexford\, Ireland
END:VEVENT
END:VCALENDAR