BEGIN:VCALENDAR
VERSION:2.0
PRODID:-//Allied Training - ECPv4.3.2//NONSGML v1.0//EN
CALSCALE:GREGORIAN
METHOD:PUBLISH
X-WR-CALNAME:Allied Training
X-ORIGINAL-URL:http://www.alliedtraining.ie
X-WR-CALDESC:Events for Allied Training
BEGIN:VEVENT
DTSTART;TZID=UTC+0:20170927T093000
DTEND;TZID=UTC+0:20170929T163000
DTSTAMP:20171108T080522
CREATED:20170922T094121Z
LAST-MODIFIED:20170922T094121Z
UID:16446-1506504600-1506702600@www.alliedtraining.ie
SUMMARY:Forklift Novice/Experienced
DESCRIPTION:RTITB Accredited.\n\nCertificate valid for 3 years
URL:http://www.alliedtraining.ie/event/forklift-noviceexperienced-2/
LOCATION:Kerlogue\, Wexford\, Ireland
END:VEVENT
END:VCALENDAR