BEGIN:VCALENDAR
VERSION:2.0
PRODID:-//Allied Training - ECPv4.3.2//NONSGML v1.0//EN
CALSCALE:GREGORIAN
METHOD:PUBLISH
X-WR-CALNAME:Allied Training
X-ORIGINAL-URL:http://www.alliedtraining.ie
X-WR-CALDESC:Events for Allied Training
BEGIN:VEVENT
DTSTART;TZID=UTC+0:20170929T080000
DTEND;TZID=UTC+0:20170929T170000
DTSTAMP:20171108T080958
CREATED:20170825T133043Z
LAST-MODIFIED:20170825T133043Z
UID:16377-1506672000-1506704400@www.alliedtraining.ie
SUMMARY:Safepass
DESCRIPTION:CSCS approved for 4 years.\n\nPassport size photo\, Proof of ID and PPS number required on the day.
URL:http://www.alliedtraining.ie/event/safepass-16/
LOCATION:Kerlogue\, Wexford\, Ireland
END:VEVENT
END:VCALENDAR