BEGIN:VCALENDAR
VERSION:2.0
PRODID:-//Allied Training - ECPv4.3.2//NONSGML v1.0//EN
CALSCALE:GREGORIAN
METHOD:PUBLISH
X-WR-CALNAME:Allied Training
X-ORIGINAL-URL:http://www.alliedtraining.ie
X-WR-CALDESC:Events for Allied Training
BEGIN:VEVENT
DTSTART;TZID=UTC+0:20171013T080000
DTEND;TZID=UTC+0:20171013T170000
DTSTAMP:20171108T081520
CREATED:20170825T131544Z
LAST-MODIFIED:20170825T131544Z
UID:16374-1507881600-1507914000@www.alliedtraining.ie
SUMMARY:Safepass
DESCRIPTION:CSCS Approved for 4 years.\n\nPassport size photo\, proof of ID & PPS number required on the day.
URL:http://www.alliedtraining.ie/event/safepass-15/
LOCATION:Kerlogue\, Wexford\, Ireland
END:VEVENT
END:VCALENDAR