BEGIN:VCALENDAR
VERSION:2.0
PRODID:-//Allied Training - ECPv4.3.2//NONSGML v1.0//EN
CALSCALE:GREGORIAN
METHOD:PUBLISH
X-WR-CALNAME:Allied Training
X-ORIGINAL-URL:http://www.alliedtraining.ie
X-WR-CALDESC:Events for Allied Training
BEGIN:VEVENT
DTSTART;TZID=UTC+0:20171004T093000
DTEND;TZID=UTC+0:20171004T163000
DTSTAMP:20171108T081044
CREATED:20170825T103425Z
LAST-MODIFIED:20170825T132536Z
UID:16358-1507109400-1507134600@www.alliedtraining.ie
SUMMARY:MEWP   (Scissors & Boom)
DESCRIPTION:1 day course.\n\nCertificate valid for 3 years.
URL:http://www.alliedtraining.ie/event/mewp/
LOCATION:Ramstown Lower\, Gorey\, Co.Wexford\, Ireland
END:VEVENT
END:VCALENDAR