BEGIN:VCALENDAR
VERSION:2.0
PRODID:-//Allied Training - ECPv4.3.2//NONSGML v1.0//EN
CALSCALE:GREGORIAN
METHOD:PUBLISH
X-WR-CALNAME:Allied Training
X-ORIGINAL-URL:http://www.alliedtraining.ie
X-WR-CALDESC:Events for Allied Training
BEGIN:VEVENT
DTSTART;TZID=UTC+0:20170926T093000
DTEND;TZID=UTC+0:20170926T163000
DTSTAMP:20171108T080836
CREATED:20170825T102440Z
LAST-MODIFIED:20170825T102440Z
UID:16355-1506418200-1506443400@www.alliedtraining.ie
SUMMARY:Fire Warden
DESCRIPTION:1 day course.\n\nCertificate valid for 3 years.
URL:http://www.alliedtraining.ie/event/fire-warden/
LOCATION:Old Dublin Rd\, Blackstoops\,\, Enniscorthy\, Co.Wexford\, Ireland
END:VEVENT
END:VCALENDAR