BEGIN:VCALENDAR
VERSION:2.0
PRODID:-//Allied Training - ECPv4.3.2//NONSGML v1.0//EN
CALSCALE:GREGORIAN
METHOD:PUBLISH
X-WR-CALNAME:Allied Training
X-ORIGINAL-URL:http://www.alliedtraining.ie
X-WR-CALDESC:Events for Allied Training
BEGIN:VEVENT
DTSTART;TZID=UTC+0:20171026T093000
DTEND;TZID=UTC+0:20171026T163000
DTSTAMP:20171108T081746
CREATED:20170825T143310Z
LAST-MODIFIED:20170825T143310Z
UID:16388-1509010200-1509035400@www.alliedtraining.ie
SUMMARY:Fire Warden
DESCRIPTION:1 day course.\n\nCertificate valid for 3 years.
URL:http://www.alliedtraining.ie/event/fire-warden-2/
LOCATION:Kerlogue\, Wexford\, Ireland
END:VEVENT
END:VCALENDAR