BEGIN:VCALENDAR
VERSION:2.0
PRODID:-//Allied Training - ECPv4.3.2//NONSGML v1.0//EN
CALSCALE:GREGORIAN
METHOD:PUBLISH
X-WR-CALNAME:Allied Training
X-ORIGINAL-URL:http://www.alliedtraining.ie
X-WR-CALDESC:Events for Allied Training
BEGIN:VEVENT
DTSTART;TZID=UTC+0:20170902T093000
DTEND;TZID=UTC+0:20170902T163000
DTSTAMP:20171108T081720
CREATED:20170825T110216Z
LAST-MODIFIED:20170825T110216Z
UID:16361-1504344600-1504369800@www.alliedtraining.ie
SUMMARY:Driver CPC   (Module 3)
DESCRIPTION:1 day course\, RSA Approved\n\nCertificate valid for 3 years
URL:http://www.alliedtraining.ie/event/driver-cpc-module-3-3/
LOCATION:Kerlogue\, Wexford\, Ireland
END:VEVENT
END:VCALENDAR