BEGIN:VCALENDAR
VERSION:2.0
PRODID:-//Allied Training - ECPv4.3.2//NONSGML v1.0//EN
CALSCALE:GREGORIAN
METHOD:PUBLISH
X-WR-CALNAME:Allied Training
X-ORIGINAL-URL:http://www.alliedtraining.ie
X-WR-CALDESC:Events for Allied Training
BEGIN:VEVENT
DTSTART;TZID=UTC+0:20170926T093000
DTEND;TZID=UTC+0:20170926T163000
DTSTAMP:20171108T080908
CREATED:20170825T133533Z
LAST-MODIFIED:20170825T133533Z
UID:16379-1506418200-1506443400@www.alliedtraining.ie
SUMMARY:Basic  First Aid
DESCRIPTION:1 Day Course.\n\nAllied Training Certificate valid for 2 years.
URL:http://www.alliedtraining.ie/event/basic-first-aid-2/
LOCATION:Kerlogue\, Wexford\, Ireland
END:VEVENT
END:VCALENDAR